BEGIN:VCALENDAR
VERSION:2.0
PRODID:-//Kiama Surf Lifesaving Club - ECPv6.15.20//NONSGML v1.0//EN
CALSCALE:GREGORIAN
METHOD:PUBLISH
X-WR-CALNAME:Kiama Surf Lifesaving Club
X-ORIGINAL-URL:https://kiamaslsc.com.au
X-WR-CALDESC:Events for Kiama Surf Lifesaving Club
REFRESH-INTERVAL;VALUE=DURATION:PT1H
X-Robots-Tag:noindex
X-PUBLISHED-TTL:PT1H
BEGIN:VTIMEZONE
TZID:Australia/Sydney
BEGIN:STANDARD
TZOFFSETFROM:+1100
TZOFFSETTO:+1000
TZNAME:AEST
DTSTART:20210403T160000
END:STANDARD
BEGIN:DAYLIGHT
TZOFFSETFROM:+1000
TZOFFSETTO:+1100
TZNAME:AEDT
DTSTART:20211002T160000
END:DAYLIGHT
BEGIN:STANDARD
TZOFFSETFROM:+1100
TZOFFSETTO:+1000
TZNAME:AEST
DTSTART:20220402T160000
END:STANDARD
BEGIN:DAYLIGHT
TZOFFSETFROM:+1000
TZOFFSETTO:+1100
TZNAME:AEDT
DTSTART:20221001T160000
END:DAYLIGHT
BEGIN:STANDARD
TZOFFSETFROM:+1100
TZOFFSETTO:+1000
TZNAME:AEST
DTSTART:20230401T160000
END:STANDARD
BEGIN:DAYLIGHT
TZOFFSETFROM:+1000
TZOFFSETTO:+1100
TZNAME:AEDT
DTSTART:20230930T160000
END:DAYLIGHT
BEGIN:STANDARD
TZOFFSETFROM:+1100
TZOFFSETTO:+1000
TZNAME:AEST
DTSTART:20240406T160000
END:STANDARD
BEGIN:DAYLIGHT
TZOFFSETFROM:+1000
TZOFFSETTO:+1100
TZNAME:AEDT
DTSTART:20241005T160000
END:DAYLIGHT
END:VTIMEZONE
BEGIN:VEVENT
DTSTART;TZID=Australia/Sydney:20221106T083000
DTEND;TZID=Australia/Sydney:20221106T083000
DTSTAMP:20260422T072507
CREATED:20220818T080910Z
LAST-MODIFIED:20220818T081217Z
UID:2290-1667723400-1667723400@kiamaslsc.com.au
SUMMARY:Nippers - Combined with KDSLSC
DESCRIPTION:U11 Set Up/Pack Up
URL:https://kiamaslsc.com.au/event/__trashed-17/
LOCATION:Kiama Downs SLSC\, 150 North Kiama Drive\, Kiama Downs\, NSW\, 2533\, Australia
CATEGORIES:Nippers
END:VEVENT
BEGIN:VEVENT
DTSTART;TZID=Australia/Sydney:20221107T163000
DTEND;TZID=Australia/Sydney:20221107T163000
DTSTAMP:20260422T072507
CREATED:20220819T210729Z
LAST-MODIFIED:20220819T211949Z
UID:2366-1667838600-1667838600@kiamaslsc.com.au
SUMMARY:Beach Training
DESCRIPTION:Confirm location on the day as it will vary depending on conditions.
URL:https://kiamaslsc.com.au/event/beach-training-5/
LOCATION:Kiama Surf Club\, 74 Manning Street\, Kiama\, NSW\, 2533\, Australia
CATEGORIES:Training
END:VEVENT
BEGIN:VEVENT
DTSTART;TZID=Australia/Sydney:20221110T163000
DTEND;TZID=Australia/Sydney:20221110T163000
DTSTAMP:20260422T072507
CREATED:20220819T210744Z
LAST-MODIFIED:20220819T212004Z
UID:2367-1668097800-1668097800@kiamaslsc.com.au
SUMMARY:Board Training
DESCRIPTION:Confirm location on the day as it will vary depending on conditions.
URL:https://kiamaslsc.com.au/event/board-training-5/
LOCATION:Kiama Surf Club\, 74 Manning Street\, Kiama\, NSW\, 2533\, Australia
CATEGORIES:Training
END:VEVENT
BEGIN:VEVENT
DTSTART;TZID=Australia/Sydney:20221112T000000
DTEND;TZID=Australia/Sydney:20221112T235959
DTSTAMP:20260422T072507
CREATED:20220819T221053Z
LAST-MODIFIED:20221005T054743Z
UID:2439-1668211200-1668297599@kiamaslsc.com.au
SUMMARY:Sydney Water Series (Round 3)
DESCRIPTION:
URL:https://kiamaslsc.com.au/event/sydney-water-series-round-3/
LOCATION:Kiama Downs SLSC\, 150 North Kiama Drive\, Kiama Downs\, NSW\, 2533\, Australia
CATEGORIES:Competition
END:VEVENT
BEGIN:VEVENT
DTSTART;TZID=Australia/Sydney:20221113T094500
DTEND;TZID=Australia/Sydney:20221113T094500
DTSTAMP:20260422T072507
CREATED:20220818T080910Z
LAST-MODIFIED:20220818T081217Z
UID:2291-1668332700-1668332700@kiamaslsc.com.au
SUMMARY:Nippers
DESCRIPTION:U10 Set Up/Pack Up
URL:https://kiamaslsc.com.au/event/__trashed-16/
LOCATION:Kiama Surf Club\, 74 Manning Street\, Kiama\, NSW\, 2533\, Australia
CATEGORIES:Nippers
END:VEVENT
BEGIN:VEVENT
DTSTART;TZID=Australia/Sydney:20221114T163000
DTEND;TZID=Australia/Sydney:20221114T163000
DTSTAMP:20260422T072507
CREATED:20220819T210744Z
LAST-MODIFIED:20220819T212004Z
UID:2368-1668443400-1668443400@kiamaslsc.com.au
SUMMARY:Beach Training
DESCRIPTION:Confirm location on the day as it will vary depending on conditions.
URL:https://kiamaslsc.com.au/event/beach-training-6/
LOCATION:Kiama Downs SLSC\, 150 North Kiama Drive\, Kiama Downs\, NSW\, 2533\, Australia
CATEGORIES:Training
END:VEVENT
BEGIN:VEVENT
DTSTART;TZID=Australia/Sydney:20221115T190000
DTEND;TZID=Australia/Sydney:20221115T190000
DTSTAMP:20260422T072507
CREATED:20220818T080910Z
LAST-MODIFIED:20220818T081219Z
UID:2292-1668538800-1668538800@kiamaslsc.com.au
SUMMARY:Monthly nippers Committee Meeting
DESCRIPTION:
URL:https://kiamaslsc.com.au/event/__trashed-15/
LOCATION:Kiama Surf Club\, 74 Manning Street\, Kiama\, NSW\, 2533\, Australia
CATEGORIES:Nippers
END:VEVENT
BEGIN:VEVENT
DTSTART;TZID=Australia/Sydney:20221117T163000
DTEND;TZID=Australia/Sydney:20221117T163000
DTSTAMP:20260422T072507
CREATED:20220819T210744Z
LAST-MODIFIED:20220819T212004Z
UID:2369-1668702600-1668702600@kiamaslsc.com.au
SUMMARY:Board Training
DESCRIPTION:Confirm location on the day as it will vary depending on conditions.
URL:https://kiamaslsc.com.au/event/board-training-6/
LOCATION:Minnamurra River\, Australia
CATEGORIES:Training
END:VEVENT
BEGIN:VEVENT
DTSTART;TZID=Australia/Sydney:20221119T000000
DTEND;TZID=Australia/Sydney:20221119T235959
DTSTAMP:20260422T072507
CREATED:20220819T221053Z
LAST-MODIFIED:20221005T054819Z
UID:2440-1668816000-1668902399@kiamaslsc.com.au
SUMMARY:Sydney Water Series (Round 4)
DESCRIPTION:
URL:https://kiamaslsc.com.au/event/sydney-water-series-round-4/
LOCATION:Bulli Surf Life Saving Club\, Trinity Row\, Bulli\, NSW\, 2516\, Australia
CATEGORIES:Competition
END:VEVENT
BEGIN:VEVENT
DTSTART;TZID=Australia/Sydney:20221120T094500
DTEND;TZID=Australia/Sydney:20221120T094500
DTSTAMP:20260422T072507
CREATED:20220818T080910Z
LAST-MODIFIED:20220818T081219Z
UID:2293-1668937500-1668937500@kiamaslsc.com.au
SUMMARY:Nippers
DESCRIPTION:U9 Set Up/Pack Up
URL:https://kiamaslsc.com.au/event/__trashed-14/
LOCATION:Kiama Surf Club\, 74 Manning Street\, Kiama\, NSW\, 2533\, Australia
CATEGORIES:Nippers
END:VEVENT
BEGIN:VEVENT
DTSTART;TZID=Australia/Sydney:20221121T163000
DTEND;TZID=Australia/Sydney:20221121T163000
DTSTAMP:20260422T072507
CREATED:20220819T210744Z
LAST-MODIFIED:20220819T212004Z
UID:2370-1669048200-1669048200@kiamaslsc.com.au
SUMMARY:Beach Training
DESCRIPTION:Confirm location on the day as it will vary depending on conditions.
URL:https://kiamaslsc.com.au/event/beach-training-7/
LOCATION:Kiama Surf Club\, 74 Manning Street\, Kiama\, NSW\, 2533\, Australia
CATEGORIES:Training
END:VEVENT
BEGIN:VEVENT
DTSTART;TZID=Australia/Sydney:20221124T163000
DTEND;TZID=Australia/Sydney:20221124T163000
DTSTAMP:20260422T072507
CREATED:20220819T210744Z
LAST-MODIFIED:20220819T212004Z
UID:2371-1669307400-1669307400@kiamaslsc.com.au
SUMMARY:Board Training
DESCRIPTION:Confirm location on the day as it will vary depending on conditions.
URL:https://kiamaslsc.com.au/event/board-training-7/
LOCATION:Kiama Surf Club\, 74 Manning Street\, Kiama\, NSW\, 2533\, Australia
CATEGORIES:Training
END:VEVENT
BEGIN:VEVENT
DTSTART;TZID=Australia/Sydney:20221126T000000
DTEND;TZID=Australia/Sydney:20221126T235959
DTSTAMP:20260422T072507
CREATED:20220819T221053Z
LAST-MODIFIED:20220819T221053Z
UID:2441-1669420800-1669507199@kiamaslsc.com.au
SUMMARY:Regional Senior Carnival
DESCRIPTION:U14 to Opens
URL:https://kiamaslsc.com.au/event/regional-senior-carnival/
LOCATION:Warilla-Barrack Point SLSC\, 7 Osborne Parade\,\, Warilla\, NSW\, 2528\, Australia
CATEGORIES:Competition
END:VEVENT
BEGIN:VEVENT
DTSTART;TZID=Australia/Sydney:20221127T094500
DTEND;TZID=Australia/Sydney:20221127T094500
DTSTAMP:20260422T072507
CREATED:20220818T081219Z
LAST-MODIFIED:20220818T081219Z
UID:2333-1669542300-1669542300@kiamaslsc.com.au
SUMMARY:Nippers - Club pointscore
DESCRIPTION:U8 Set Up/Pack Up
URL:https://kiamaslsc.com.au/event/nippers-club-pointscore/
LOCATION:Kiama Surf Club\, 74 Manning Street\, Kiama\, NSW\, 2533\, Australia
CATEGORIES:Nippers
END:VEVENT
BEGIN:VEVENT
DTSTART;TZID=Australia/Sydney:20221128T163000
DTEND;TZID=Australia/Sydney:20221128T163000
DTSTAMP:20260422T072507
CREATED:20220819T210825Z
LAST-MODIFIED:20220819T212019Z
UID:2372-1669653000-1669653000@kiamaslsc.com.au
SUMMARY:Beach training
DESCRIPTION:Confirm location on the day as it will vary depending on conditions.
URL:https://kiamaslsc.com.au/event/beach-training-8/
LOCATION:Kiama Downs SLSC\, 150 North Kiama Drive\, Kiama Downs\, NSW\, 2533\, Australia
CATEGORIES:Training
END:VEVENT
BEGIN:VEVENT
DTSTART;TZID=Australia/Sydney:20221201T163000
DTEND;TZID=Australia/Sydney:20221201T163000
DTSTAMP:20260422T072507
CREATED:20220819T210825Z
LAST-MODIFIED:20220819T212019Z
UID:2373-1669912200-1669912200@kiamaslsc.com.au
SUMMARY:Board Training
DESCRIPTION:Confirm location on the day as it will vary depending on conditions.
URL:https://kiamaslsc.com.au/event/board-training-8/
LOCATION:Minnamurra River\, Australia
CATEGORIES:Training
END:VEVENT
BEGIN:VEVENT
DTSTART;TZID=Australia/Sydney:20221203T000000
DTEND;TZID=Australia/Sydney:20221205T235959
DTSTAMP:20260422T072507
CREATED:20220819T221055Z
LAST-MODIFIED:20220819T221055Z
UID:2442-1670025600-1670284799@kiamaslsc.com.au
SUMMARY:Interbranch Carnival
DESCRIPTION:By Selection Only
URL:https://kiamaslsc.com.au/event/interbranch-carnival/
LOCATION:Shelly Beach SLSC\, Shelly Beach Surf Life Saving Club\, Shelly Beach\, NSW\, 2261\, Australia
CATEGORIES:Competition
END:VEVENT
BEGIN:VEVENT
DTSTART;TZID=Australia/Sydney:20221204T094500
DTEND;TZID=Australia/Sydney:20221204T094500
DTSTAMP:20260422T072507
CREATED:20220818T080910Z
LAST-MODIFIED:20220818T081219Z
UID:2295-1670147100-1670147100@kiamaslsc.com.au
SUMMARY:Nippers
DESCRIPTION:U14 Set Up/Pack Up
URL:https://kiamaslsc.com.au/event/__trashed-12/
LOCATION:Kiama Surf Club\, 74 Manning Street\, Kiama\, NSW\, 2533\, Australia
CATEGORIES:Nippers
END:VEVENT
BEGIN:VEVENT
DTSTART;TZID=Australia/Sydney:20221205T163000
DTEND;TZID=Australia/Sydney:20221205T163000
DTSTAMP:20260422T072507
CREATED:20220819T210825Z
LAST-MODIFIED:20220819T212019Z
UID:2374-1670257800-1670257800@kiamaslsc.com.au
SUMMARY:Beach Training
DESCRIPTION:Confirm location on the day as it will vary depending on conditions.
URL:https://kiamaslsc.com.au/event/beach-training-9/
LOCATION:Kiama Surf Club\, 74 Manning Street\, Kiama\, NSW\, 2533\, Australia
CATEGORIES:Training
END:VEVENT
BEGIN:VEVENT
DTSTART;TZID=Australia/Sydney:20221208T163000
DTEND;TZID=Australia/Sydney:20221208T163000
DTSTAMP:20260422T072507
CREATED:20220819T210825Z
LAST-MODIFIED:20220819T212019Z
UID:2375-1670517000-1670517000@kiamaslsc.com.au
SUMMARY:Board Training
DESCRIPTION:Confirm location on the day as it will vary depending on conditions.
URL:https://kiamaslsc.com.au/event/board-training-9/
LOCATION:Kiama Surf Club\, 74 Manning Street\, Kiama\, NSW\, 2533\, Australia
CATEGORIES:Training
END:VEVENT
BEGIN:VEVENT
DTSTART;TZID=Australia/Sydney:20221210T000000
DTEND;TZID=Australia/Sydney:20221210T235959
DTSTAMP:20260422T072507
CREATED:20220819T221055Z
LAST-MODIFIED:20220819T221055Z
UID:2443-1670630400-1670716799@kiamaslsc.com.au
SUMMARY:Regional Junior Carnival
DESCRIPTION:U9 to U13
URL:https://kiamaslsc.com.au/event/regional-junior-carnival/
LOCATION:Bulli Surf Life Saving Club\, Trinity Row\, Bulli\, NSW\, 2516\, Australia
CATEGORIES:Competition
END:VEVENT
BEGIN:VEVENT
DTSTART;TZID=Australia/Sydney:20221210T150000
DTEND;TZID=Australia/Sydney:20221210T150000
DTSTAMP:20260422T072507
CREATED:20220818T080910Z
LAST-MODIFIED:20220818T081741Z
UID:2296-1670684400-1670684400@kiamaslsc.com.au
SUMMARY:Twilight Nippers - Santa Followed By Club Christmas Party & BBQ
DESCRIPTION:U13 Set up/Pack up
URL:https://kiamaslsc.com.au/event/__trashed-11/
LOCATION:Kiama Surf Club\, 74 Manning Street\, Kiama\, NSW\, 2533\, Australia
CATEGORIES:Nippers,Social
END:VEVENT
BEGIN:VEVENT
DTSTART;TZID=Australia/Sydney:20221212T163000
DTEND;TZID=Australia/Sydney:20221212T163000
DTSTAMP:20260422T072507
CREATED:20220819T210825Z
LAST-MODIFIED:20220819T212019Z
UID:2376-1670862600-1670862600@kiamaslsc.com.au
SUMMARY:Beach training
DESCRIPTION:Confirm location on the day as it will vary depending on conditions.
URL:https://kiamaslsc.com.au/event/beach-training-10/
LOCATION:Kiama Downs SLSC\, 150 North Kiama Drive\, Kiama Downs\, NSW\, 2533\, Australia
CATEGORIES:Training
END:VEVENT
BEGIN:VEVENT
DTSTART;TZID=Australia/Sydney:20221215T163000
DTEND;TZID=Australia/Sydney:20221215T163000
DTSTAMP:20260422T072507
CREATED:20220819T210839Z
LAST-MODIFIED:20220819T212035Z
UID:2377-1671121800-1671121800@kiamaslsc.com.au
SUMMARY:Board Training
DESCRIPTION:Confirm location on the day as it will vary depending on conditions.
URL:https://kiamaslsc.com.au/event/board-training-10/
LOCATION:Minnamurra River\, Australia
CATEGORIES:Training
END:VEVENT
BEGIN:VEVENT
DTSTART;TZID=Australia/Sydney:20221218T150000
DTEND;TZID=Australia/Sydney:20221218T180000
DTSTAMP:20260422T072507
CREATED:20221212T231301Z
LAST-MODIFIED:20221212T231303Z
UID:2611-1671375600-1671386400@kiamaslsc.com.au
SUMMARY:Sunday sips
DESCRIPTION:OPEN TO THE PUBLIC  \n\n\n\nWe have a vision to build a vibrant community around our club and were better to be on a Sunday afternoon than catching up with friends and making new friends at Sips on the Deck @ Kiama SLSC. \n\n\n\n\nWhen: Sunday 18 December 2022\n\n\n\nWhere: Kiama Surf Lifesaving Club\n\n\n\nTime: Bar open 3pm to 6pm\n\n\n\nBYO nibbles\n\n\n\n\nOpen to members of the public and Kiama SLSC Members \n\n\n\nCome join us\, we would love to see you! \n\n\n\n NEW SUMMER WINE LIST  \n\n\n\n\n\n\n\nFrom this weekend\, we will be showcasing Yarran Wines. Proudly awarded the 2021 ‘Darkhorse Winery of the Year’ by Australian Wine Companion – the Yarran name was selected from the national pool wineries as the up-and-coming winery to watch. \n\n\n\nA vineyard that has spent the last 10 years committing to a more sustainable and organic approach to producing wines\, they are leading the way in this space. \n\n\n\nFor your delight\, we’ll have: \n\n\n\n Yarran Cuvee Blanc NV Sparkling – A refreshing single batch Chardonnay sparkling. Showing fresh apple\, tropical fruits\, creamy palate and zesty finish \n\n\n\n Yarran Organic Pinot Grigio – Picked in the cool of the night and pressed immediatelywith no de-stemming or crushing to minimise any colour pick up from the skins of grapes. Soft and light\, easy drinking with slight tropical fruits and floral lift. \n\n\n\n Yarran Shiraz – Aged with a combination of French and American oak\, this wine displays ripe plum and spicy characters withsoft tannins \n\n\n\n Yarran Montepulciano Rose – Light pale salmon in colour as a result of minimal skin contact. Produced from a single parcel of Riverina Montepulciano grapes; estate grown and lightly pressed. Dry\, savoury\, moreish Rose with light strawberry notes. A style perfectly paired with the warmer months \n\n\n\nCome join us!
URL:https://kiamaslsc.com.au/event/sunday-sips/
LOCATION:Kiama Surf Club\, 74 Manning Street\, Kiama\, NSW\, 2533\, Australia
CATEGORIES:Social
ATTACH;FMTTYPE=image/jpeg:https://kiamaslsc.com.au/wp-content/uploads/2022/12/317727737_441106371565167_4718851651629775397_n.jpg
END:VEVENT
BEGIN:VEVENT
DTSTART;TZID=Australia/Sydney:20221220T190000
DTEND;TZID=Australia/Sydney:20221220T190000
DTSTAMP:20260422T072507
CREATED:20220818T080910Z
LAST-MODIFIED:20220818T081234Z
UID:2297-1671562800-1671562800@kiamaslsc.com.au
SUMMARY:Monthly nippers Committee Meeting
DESCRIPTION:
URL:https://kiamaslsc.com.au/event/__trashed-10/
LOCATION:Kiama Surf Club\, 74 Manning Street\, Kiama\, NSW\, 2533\, Australia
CATEGORIES:Nippers
END:VEVENT
BEGIN:VEVENT
DTSTART;TZID=Australia/Sydney:20230115T000000
DTEND;TZID=Australia/Sydney:20230115T235959
DTSTAMP:20260422T072507
CREATED:20220819T221055Z
LAST-MODIFIED:20220819T221055Z
UID:2444-1673740800-1673827199@kiamaslsc.com.au
SUMMARY:Nipper Nats
DESCRIPTION:
URL:https://kiamaslsc.com.au/event/nipper-nats/
LOCATION:Manly LSC\, Manly beach\, Australia
CATEGORIES:Competition
END:VEVENT
BEGIN:VEVENT
DTSTART;TZID=Australia/Sydney:20230120T190000
DTEND;TZID=Australia/Sydney:20230120T190000
DTSTAMP:20260422T072507
CREATED:20220818T080910Z
LAST-MODIFIED:20220818T081234Z
UID:2298-1674241200-1674241200@kiamaslsc.com.au
SUMMARY:Monthly nippers Committee Meeting
DESCRIPTION:
URL:https://kiamaslsc.com.au/event/__trashed-9/
LOCATION:Kiama Surf Club\, 74 Manning Street\, Kiama\, NSW\, 2533\, Australia
CATEGORIES:Nippers
END:VEVENT
BEGIN:VEVENT
DTSTART;TZID=Australia/Sydney:20230121T000000
DTEND;TZID=Australia/Sydney:20230121T235959
DTSTAMP:20260422T072507
CREATED:20220819T221055Z
LAST-MODIFIED:20220819T221055Z
UID:2445-1674259200-1674345599@kiamaslsc.com.au
SUMMARY:South Coast Development Carnival
DESCRIPTION:Location TBC
URL:https://kiamaslsc.com.au/event/south-coast-development-carnival/
LOCATION:NSW
CATEGORIES:Competition
END:VEVENT
BEGIN:VEVENT
DTSTART;TZID=Australia/Sydney:20230127T000000
DTEND;TZID=Australia/Sydney:20230130T235959
DTSTAMP:20260422T072507
CREATED:20220819T221055Z
LAST-MODIFIED:20220819T221055Z
UID:2446-1674777600-1675123199@kiamaslsc.com.au
SUMMARY:NSW Country Championships
DESCRIPTION:
URL:https://kiamaslsc.com.au/event/nsw-country-championships-2/
LOCATION:Cape Hawke\, Cape Hawke Surf Life Saving Club\, Forster\, 2428
CATEGORIES:Competition
END:VEVENT
END:VCALENDAR