BEGIN:VCALENDAR
VERSION:2.0
PRODID:-//Kiama Surf Lifesaving Club - ECPv6.15.20//NONSGML v1.0//EN
CALSCALE:GREGORIAN
METHOD:PUBLISH
X-ORIGINAL-URL:https://kiamaslsc.com.au
X-WR-CALDESC:Events for Kiama Surf Lifesaving Club
REFRESH-INTERVAL;VALUE=DURATION:PT1H
X-Robots-Tag:noindex
X-PUBLISHED-TTL:PT1H
BEGIN:VTIMEZONE
TZID:Australia/Sydney
BEGIN:STANDARD
TZOFFSETFROM:+1100
TZOFFSETTO:+1000
TZNAME:AEST
DTSTART:20210403T160000
END:STANDARD
BEGIN:DAYLIGHT
TZOFFSETFROM:+1000
TZOFFSETTO:+1100
TZNAME:AEDT
DTSTART:20211002T160000
END:DAYLIGHT
BEGIN:STANDARD
TZOFFSETFROM:+1100
TZOFFSETTO:+1000
TZNAME:AEST
DTSTART:20220402T160000
END:STANDARD
BEGIN:DAYLIGHT
TZOFFSETFROM:+1000
TZOFFSETTO:+1100
TZNAME:AEDT
DTSTART:20221001T160000
END:DAYLIGHT
BEGIN:STANDARD
TZOFFSETFROM:+1100
TZOFFSETTO:+1000
TZNAME:AEST
DTSTART:20230401T160000
END:STANDARD
BEGIN:DAYLIGHT
TZOFFSETFROM:+1000
TZOFFSETTO:+1100
TZNAME:AEDT
DTSTART:20230930T160000
END:DAYLIGHT
END:VTIMEZONE
BEGIN:VEVENT
DTSTART;TZID=Australia/Sydney:20220711T090000
DTEND;TZID=Australia/Sydney:20220711T120000
DTSTAMP:20260422T123605
CREATED:20220701T050534Z
LAST-MODIFIED:20220701T051516Z
UID:2206-1657530000-1657540800@kiamaslsc.com.au
SUMMARY:Surfer rescue training
DESCRIPTION:Register now.
URL:https://kiamaslsc.com.au/event/surfer-rescue-training/
LOCATION:Kiama Surf Club\, 74 Manning Street\, Kiama\, NSW\, 2533\, Australia
CATEGORIES:Training
ATTACH;FMTTYPE=image/png:https://kiamaslsc.com.au/wp-content/uploads/2022/07/Surfer-Rescue-Training.png
END:VEVENT
BEGIN:VEVENT
DTSTART;TZID=Australia/Sydney:20220731T150000
DTEND;TZID=Australia/Sydney:20220731T180000
DTSTAMP:20260422T123605
CREATED:20220627T010801Z
LAST-MODIFIED:20220711T010403Z
UID:2172-1659279600-1659290400@kiamaslsc.com.au
SUMMARY:2022 Annual General Meeting
DESCRIPTION:https://kiamaslsc.com.au/uncategorized/notice-of-annual-general-meeting-2022/\n\n\n\n\nNomination form (pdf)Nomination form (google doc)Agenda
URL:https://kiamaslsc.com.au/event/annual-general-meeting/
LOCATION:Kiama Surf Club\, 74 Manning Street\, Kiama\, NSW\, 2533\, Australia
CATEGORIES:Social
END:VEVENT
BEGIN:VEVENT
DTSTART;TZID=Australia/Sydney:20220905T163000
DTEND;TZID=Australia/Sydney:20220905T163000
DTSTAMP:20260422T123605
CREATED:20220819T210711Z
LAST-MODIFIED:20220819T211932Z
UID:2352-1662395400-1662395400@kiamaslsc.com.au
SUMMARY:Beach coaching kick off
DESCRIPTION:Confirm location on the day as it will vary depending on conditions.
URL:https://kiamaslsc.com.au/event/beach-coaching-kick-off/
LOCATION:Kiama Downs SLSC\, 150 North Kiama Drive\, Kiama Downs\, NSW\, 2533\, Australia
CATEGORIES:Training
END:VEVENT
BEGIN:VEVENT
DTSTART;TZID=Australia/Sydney:20220908T163000
DTEND;TZID=Australia/Sydney:20220908T163000
DTSTAMP:20260422T123605
CREATED:20220819T210711Z
LAST-MODIFIED:20220819T211932Z
UID:2353-1662654600-1662654600@kiamaslsc.com.au
SUMMARY:Board coaching kick off
DESCRIPTION:Confirm location on the day as it will vary depending on conditions.
URL:https://kiamaslsc.com.au/event/board-coaching-kick-off/
LOCATION:Minnamurra River\, Australia
CATEGORIES:Training
END:VEVENT
BEGIN:VEVENT
DTSTART;TZID=Australia/Sydney:20220914T163000
DTEND;TZID=Australia/Sydney:20220914T163000
DTSTAMP:20260422T123605
CREATED:20220819T210711Z
LAST-MODIFIED:20220819T211932Z
UID:2354-1663173000-1663173000@kiamaslsc.com.au
SUMMARY:Beach coaching
DESCRIPTION:Confirm location on the day as it will vary depending on conditions.
URL:https://kiamaslsc.com.au/event/beach-coaching/
LOCATION:Kiama Surf Club\, 74 Manning Street\, Kiama\, NSW\, 2533\, Australia
CATEGORIES:Training
END:VEVENT
BEGIN:VEVENT
DTSTART;TZID=Australia/Sydney:20220915T163000
DTEND;TZID=Australia/Sydney:20220915T163000
DTSTAMP:20260422T123605
CREATED:20220819T210711Z
LAST-MODIFIED:20220819T211932Z
UID:2355-1663259400-1663259400@kiamaslsc.com.au
SUMMARY:Board Coaching
DESCRIPTION:Confirm location on the day as it will vary depending on conditions.
URL:https://kiamaslsc.com.au/event/board-coaching/
LOCATION:Kiama Surf Club\, 74 Manning Street\, Kiama\, NSW\, 2533\, Australia
CATEGORIES:Training
END:VEVENT
BEGIN:VEVENT
DTSTART;TZID=Australia/Sydney:20220916T180000
DTEND;TZID=Australia/Sydney:20220916T210000
DTSTAMP:20260422T123605
CREATED:20220812T032044Z
LAST-MODIFIED:20220812T032045Z
UID:2260-1663351200-1663362000@kiamaslsc.com.au
SUMMARY:Jet rescue boat farewell
DESCRIPTION:Come along to celebrate the 47 strong years of achievements and service the Kiama Jet Rescue Boat (Surf Rescue 50) has made to the community. \n\n\n\nAll past and present members\, sponsors\, and supporters are invited.
URL:https://kiamaslsc.com.au/event/jet-rescue-boat-farewell/
LOCATION:Kiama Surf Club\, 74 Manning Street\, Kiama\, NSW\, 2533\, Australia
CATEGORIES:Social
ATTACH;FMTTYPE=image/png:https://kiamaslsc.com.au/wp-content/uploads/2022/08/KIAMA-JET-RESCUE-SURF-RESCUE-50-FAREWELL.png
ORGANIZER;CN="Lachlan Davidson":MAILTO:lachiejdavidson@gmail.com
END:VEVENT
BEGIN:VEVENT
DTSTART;TZID=Australia/Sydney:20220920T163000
DTEND;TZID=Australia/Sydney:20220920T163000
DTSTAMP:20260422T123605
CREATED:20220819T210711Z
LAST-MODIFIED:20220819T211932Z
UID:2356-1663691400-1663691400@kiamaslsc.com.au
SUMMARY:Beach Coaching
DESCRIPTION:Confirm location on the day as it will vary depending on conditions.
URL:https://kiamaslsc.com.au/event/beach-coaching-2/
LOCATION:Kiama Downs SLSC\, 150 North Kiama Drive\, Kiama Downs\, NSW\, 2533\, Australia
CATEGORIES:Training
END:VEVENT
BEGIN:VEVENT
DTSTART;TZID=Australia/Sydney:20220920T190000
DTEND;TZID=Australia/Sydney:20220920T203000
DTSTAMP:20260422T123605
CREATED:20220817T085847Z
LAST-MODIFIED:20220817T085849Z
UID:2273-1663700400-1663705800@kiamaslsc.com.au
SUMMARY:Monthly Nippers committee meeting
DESCRIPTION:
URL:https://kiamaslsc.com.au/event/monthly-nippers-committee-meeting/
LOCATION:Kiama Surf Club\, 74 Manning Street\, Kiama\, NSW\, 2533\, Australia
CATEGORIES:Nippers
ORGANIZER;CN="David Griffin":MAILTO:jac@kiamaslsc.com.au
END:VEVENT
BEGIN:VEVENT
DTSTART;TZID=Australia/Sydney:20220922T163000
DTEND;TZID=Australia/Sydney:20220922T163000
DTSTAMP:20260422T123605
CREATED:20220819T210713Z
LAST-MODIFIED:20220819T211934Z
UID:2357-1663864200-1663864200@kiamaslsc.com.au
SUMMARY:Board Coaching
DESCRIPTION:Confirm location on the day as it will vary depending on conditions.
URL:https://kiamaslsc.com.au/event/board-coaching-2/
LOCATION:Minnamurra River\, Australia
CATEGORIES:Training
END:VEVENT
BEGIN:VEVENT
DTSTART;TZID=Australia/Sydney:20220924T090000
DTEND;TZID=Australia/Sydney:20220924T110000
DTSTAMP:20260422T123605
CREATED:20220818T073623Z
LAST-MODIFIED:20220818T073625Z
UID:2277-1664010000-1664017200@kiamaslsc.com.au
SUMMARY:Surfer rescue training
DESCRIPTION:
URL:https://kiamaslsc.com.au/event/surfer-rescue-training-2/
LOCATION:Kiama Surf Club\, 74 Manning Street\, Kiama\, NSW\, 2533\, Australia
CATEGORIES:Training
END:VEVENT
BEGIN:VEVENT
DTSTART;TZID=Australia/Sydney:20220924T190000
DTEND;TZID=Australia/Sydney:20220924T213000
DTSTAMP:20260422T123605
CREATED:20220818T073744Z
LAST-MODIFIED:20220818T073746Z
UID:2279-1664046000-1664055000@kiamaslsc.com.au
SUMMARY:Holiday movie night
DESCRIPTION:
URL:https://kiamaslsc.com.au/event/holiday-movie-night/
LOCATION:Kiama Surf Club\, 74 Manning Street\, Kiama\, NSW\, 2533\, Australia
CATEGORIES:Nippers,Social
END:VEVENT
BEGIN:VEVENT
DTSTART;TZID=Australia/Sydney:20221008T090000
DTEND;TZID=Australia/Sydney:20221008T100000
DTSTAMP:20260422T123605
CREATED:20220822T071057Z
LAST-MODIFIED:20220822T071628Z
UID:2463-1665219600-1665223200@kiamaslsc.com.au
SUMMARY:Pool Proficiency 1
DESCRIPTION:Skills evaluation.
URL:https://kiamaslsc.com.au/event/skills-evaluation/
LOCATION:Kiama Leisure Centre\, 1 Havilah Place\, Kiama\, NSW\, 2533\, Australia
CATEGORIES:Nippers
END:VEVENT
BEGIN:VEVENT
DTSTART;TZID=Australia/Sydney:20221008T190000
DTEND;TZID=Australia/Sydney:20221008T213000
DTSTAMP:20260422T123605
CREATED:20220818T073847Z
LAST-MODIFIED:20220818T073849Z
UID:2281-1665255600-1665264600@kiamaslsc.com.au
SUMMARY:Holiday movie night
DESCRIPTION:
URL:https://kiamaslsc.com.au/event/holiday-movie-night-2/
LOCATION:Kiama Surf Club\, 74 Manning Street\, Kiama\, NSW\, 2533\, Australia
CATEGORIES:Nippers,Social
END:VEVENT
BEGIN:VEVENT
DTSTART;TZID=Australia/Sydney:20221009T090000
DTEND;TZID=Australia/Sydney:20221009T100000
DTSTAMP:20260422T123605
CREATED:20220822T071057Z
LAST-MODIFIED:20220822T071733Z
UID:2464-1665306000-1665309600@kiamaslsc.com.au
SUMMARY:Pool Proficiency 2
DESCRIPTION:Skills evaluation.
URL:https://kiamaslsc.com.au/event/skills-evaluation-2/
LOCATION:Kiama Leisure Centre\, 1 Havilah Place\, Kiama\, NSW\, 2533\, Australia
CATEGORIES:Nippers
END:VEVENT
BEGIN:VEVENT
DTSTART;TZID=Australia/Sydney:20221010T163000
DTEND;TZID=Australia/Sydney:20221010T163000
DTSTAMP:20260422T123605
CREATED:20220819T210713Z
LAST-MODIFIED:20220819T211934Z
UID:2358-1665419400-1665419400@kiamaslsc.com.au
SUMMARY:Beach Training
DESCRIPTION:Confirm location on the day as it will vary depending on conditions.
URL:https://kiamaslsc.com.au/event/beach-training/
LOCATION:Kiama Surf Club\, 74 Manning Street\, Kiama\, NSW\, 2533\, Australia
CATEGORIES:Training
END:VEVENT
BEGIN:VEVENT
DTSTART;TZID=Australia/Sydney:20221012T000000
DTEND;TZID=Australia/Sydney:20221012T235900
DTSTAMP:20260422T123605
CREATED:20211012T000631Z
LAST-MODIFIED:20211012T030956Z
UID:1667-1665532800-1665619140@kiamaslsc.com.au
SUMMARY:South Coast Branch Carnival
DESCRIPTION:Time\, location and other details to follow.
URL:https://kiamaslsc.com.au/event/south-coast-branch-carnival/
LOCATION:NSW
CATEGORIES:Competition
END:VEVENT
BEGIN:VEVENT
DTSTART;TZID=Australia/Sydney:20221013T163000
DTEND;TZID=Australia/Sydney:20221013T163000
DTSTAMP:20260422T123605
CREATED:20220819T210714Z
LAST-MODIFIED:20220819T211934Z
UID:2359-1665678600-1665678600@kiamaslsc.com.au
SUMMARY:Board Training
DESCRIPTION:Confirm location on the day as it will vary depending on conditions.
URL:https://kiamaslsc.com.au/event/board-training/
LOCATION:Kiama Surf Club\, 74 Manning Street\, Kiama\, NSW\, 2533\, Australia
CATEGORIES:Training
END:VEVENT
BEGIN:VEVENT
DTSTART;TZID=Australia/Sydney:20221016T094500
DTEND;TZID=Australia/Sydney:20221016T120000
DTSTAMP:20260422T123605
CREATED:20220818T074027Z
LAST-MODIFIED:20220818T082148Z
UID:2283-1665913500-1665921600@kiamaslsc.com.au
SUMMARY:2022/23 Season Start + BBQ Lunch
DESCRIPTION:U14 Set up/Pack up 9.00AM
URL:https://kiamaslsc.com.au/event/2022-23-season-start-bbq-lunch/
LOCATION:Kiama Surf Club\, 74 Manning Street\, Kiama\, NSW\, 2533\, Australia
CATEGORIES:Nippers,Social
END:VEVENT
BEGIN:VEVENT
DTSTART;TZID=Australia/Sydney:20221017T163000
DTEND;TZID=Australia/Sydney:20221017T163000
DTSTAMP:20260422T123605
CREATED:20220819T210714Z
LAST-MODIFIED:20220819T211934Z
UID:2360-1666024200-1666024200@kiamaslsc.com.au
SUMMARY:Beach Training
DESCRIPTION:Confirm location on the day as it will vary depending on conditions.
URL:https://kiamaslsc.com.au/event/beach-training-2/
LOCATION:Kiama Downs SLSC\, 150 North Kiama Drive\, Kiama Downs\, NSW\, 2533\, Australia
CATEGORIES:Training
END:VEVENT
BEGIN:VEVENT
DTSTART;TZID=Australia/Sydney:20221018T190000
DTEND;TZID=Australia/Sydney:20221018T190000
DTSTAMP:20260422T123605
CREATED:20220818T081216Z
LAST-MODIFIED:20220818T081216Z
UID:2331-1666119600-1666119600@kiamaslsc.com.au
SUMMARY:Nippers committee meeting
DESCRIPTION:
URL:https://kiamaslsc.com.au/event/nippers-committee-meeting/
LOCATION:Kiama Surf Club\, 74 Manning Street\, Kiama\, NSW\, 2533\, Australia
CATEGORIES:Nippers
END:VEVENT
BEGIN:VEVENT
DTSTART;TZID=Australia/Sydney:20221020T163000
DTEND;TZID=Australia/Sydney:20221020T163000
DTSTAMP:20260422T123605
CREATED:20220819T210714Z
LAST-MODIFIED:20220819T211934Z
UID:2361-1666283400-1666283400@kiamaslsc.com.au
SUMMARY:Board Training
DESCRIPTION:Confirm location on the day as it will vary depending on conditions.
URL:https://kiamaslsc.com.au/event/board-training-2/
LOCATION:Minnamurra River\, Australia
CATEGORIES:Training
END:VEVENT
BEGIN:VEVENT
DTSTART;TZID=Australia/Sydney:20221022T000000
DTEND;TZID=Australia/Sydney:20221022T235959
DTSTAMP:20260422T123605
CREATED:20220819T221053Z
LAST-MODIFIED:20221005T054405Z
UID:2437-1666396800-1666483199@kiamaslsc.com.au
SUMMARY:Sydney Water Series (Round 1)
DESCRIPTION:
URL:https://kiamaslsc.com.au/event/sydney-water-series-round-1/
LOCATION:Warilla-Barrack Point SLSC\, 7 Osborne Parade\,\, Warilla\, NSW\, 2528\, Australia
CATEGORIES:Competition
END:VEVENT
BEGIN:VEVENT
DTSTART;TZID=Australia/Sydney:20221023T094500
DTEND;TZID=Australia/Sydney:20221023T094500
DTSTAMP:20260422T123605
CREATED:20220818T080910Z
LAST-MODIFIED:20220818T081217Z
UID:2288-1666518300-1666518300@kiamaslsc.com.au
SUMMARY:Nippers
DESCRIPTION:U13 Set up/Pack up
URL:https://kiamaslsc.com.au/event/__trashed-19/
LOCATION:Kiama Surf Club\, 74 Manning Street\, Kiama\, NSW\, 2533\, Australia
CATEGORIES:Nippers
END:VEVENT
BEGIN:VEVENT
DTSTART;TZID=Australia/Sydney:20221023T163000
DTEND;TZID=Australia/Sydney:20221023T163000
DTSTAMP:20260422T123605
CREATED:20220819T210729Z
LAST-MODIFIED:20220819T211949Z
UID:2362-1666542600-1666542600@kiamaslsc.com.au
SUMMARY:Beach Training
DESCRIPTION:Confirm location on the day as it will vary depending on conditions.
URL:https://kiamaslsc.com.au/event/beach-training-3/
LOCATION:Kiama Surf Club\, 74 Manning Street\, Kiama\, NSW\, 2533\, Australia
CATEGORIES:Training
END:VEVENT
BEGIN:VEVENT
DTSTART;TZID=Australia/Sydney:20221027T163000
DTEND;TZID=Australia/Sydney:20221027T163000
DTSTAMP:20260422T123605
CREATED:20220819T210729Z
LAST-MODIFIED:20220819T211949Z
UID:2363-1666888200-1666888200@kiamaslsc.com.au
SUMMARY:Board Training
DESCRIPTION:Confirm location on the day as it will vary depending on conditions.
URL:https://kiamaslsc.com.au/event/board-training-3/
LOCATION:Kiama Surf Club\, 74 Manning Street\, Kiama\, NSW\, 2533\, Australia
CATEGORIES:Training
END:VEVENT
BEGIN:VEVENT
DTSTART;TZID=Australia/Sydney:20221029T000000
DTEND;TZID=Australia/Sydney:20221029T235959
DTSTAMP:20260422T123605
CREATED:20220819T221053Z
LAST-MODIFIED:20221005T054703Z
UID:2438-1667001600-1667087999@kiamaslsc.com.au
SUMMARY:Sydney Water Series (Round 2)
DESCRIPTION:
URL:https://kiamaslsc.com.au/event/sydney-water-series-round-2/
LOCATION:Thirroul SLSC\, Thirroul Surf Life Saving Club\, Cliff Parade\, Thirroul\, NSW\, 2515\, Australia
CATEGORIES:Competition
END:VEVENT
BEGIN:VEVENT
DTSTART;TZID=Australia/Sydney:20221030T094500
DTEND;TZID=Australia/Sydney:20221030T094500
DTSTAMP:20260422T123605
CREATED:20220818T080910Z
LAST-MODIFIED:20220818T081217Z
UID:2289-1667123100-1667123100@kiamaslsc.com.au
SUMMARY:Nippers
DESCRIPTION:U12 Set Up/Pack Up
URL:https://kiamaslsc.com.au/event/__trashed-18/
LOCATION:Kiama Surf Club\, 74 Manning Street\, Kiama\, NSW\, 2533\, Australia
CATEGORIES:Nippers
END:VEVENT
BEGIN:VEVENT
DTSTART;TZID=Australia/Sydney:20221031T163000
DTEND;TZID=Australia/Sydney:20221031T163000
DTSTAMP:20260422T123605
CREATED:20220819T210729Z
LAST-MODIFIED:20220819T211949Z
UID:2364-1667233800-1667233800@kiamaslsc.com.au
SUMMARY:Beach Training
DESCRIPTION:Confirm location on the day as it will vary depending on conditions.
URL:https://kiamaslsc.com.au/event/beach-training-4/
LOCATION:Kiama Downs SLSC\, 150 North Kiama Drive\, Kiama Downs\, NSW\, 2533\, Australia
CATEGORIES:Training
END:VEVENT
BEGIN:VEVENT
DTSTART;TZID=Australia/Sydney:20221103T163000
DTEND;TZID=Australia/Sydney:20221103T163000
DTSTAMP:20260422T123605
CREATED:20220819T210729Z
LAST-MODIFIED:20220819T211949Z
UID:2365-1667493000-1667493000@kiamaslsc.com.au
SUMMARY:Board Training
DESCRIPTION:Confirm location on the day as it will vary depending on conditions.
URL:https://kiamaslsc.com.au/event/board-training-4/
LOCATION:Minnamurra River\, Australia
CATEGORIES:Training
END:VEVENT
END:VCALENDAR