BEGIN:VCALENDAR
VERSION:2.0
PRODID:-//Kiama Surf Lifesaving Club - ECPv6.15.20//NONSGML v1.0//EN
CALSCALE:GREGORIAN
METHOD:PUBLISH
X-WR-CALNAME:Kiama Surf Lifesaving Club
X-ORIGINAL-URL:https://kiamaslsc.com.au
X-WR-CALDESC:Events for Kiama Surf Lifesaving Club
REFRESH-INTERVAL;VALUE=DURATION:PT1H
X-Robots-Tag:noindex
X-PUBLISHED-TTL:PT1H
BEGIN:VTIMEZONE
TZID:Australia/Sydney
BEGIN:STANDARD
TZOFFSETFROM:+1100
TZOFFSETTO:+1000
TZNAME:AEST
DTSTART:20230401T160000
END:STANDARD
BEGIN:DAYLIGHT
TZOFFSETFROM:+1000
TZOFFSETTO:+1100
TZNAME:AEDT
DTSTART:20230930T160000
END:DAYLIGHT
BEGIN:STANDARD
TZOFFSETFROM:+1100
TZOFFSETTO:+1000
TZNAME:AEST
DTSTART:20240406T160000
END:STANDARD
BEGIN:DAYLIGHT
TZOFFSETFROM:+1000
TZOFFSETTO:+1100
TZNAME:AEDT
DTSTART:20241005T160000
END:DAYLIGHT
BEGIN:STANDARD
TZOFFSETFROM:+1100
TZOFFSETTO:+1000
TZNAME:AEST
DTSTART:20250405T160000
END:STANDARD
BEGIN:DAYLIGHT
TZOFFSETFROM:+1000
TZOFFSETTO:+1100
TZNAME:AEDT
DTSTART:20251004T160000
END:DAYLIGHT
BEGIN:STANDARD
TZOFFSETFROM:+1100
TZOFFSETTO:+1000
TZNAME:AEST
DTSTART:20260404T160000
END:STANDARD
BEGIN:DAYLIGHT
TZOFFSETFROM:+1000
TZOFFSETTO:+1100
TZNAME:AEDT
DTSTART:20261003T160000
END:DAYLIGHT
END:VTIMEZONE
BEGIN:VEVENT
DTSTART;TZID=Australia/Sydney:20241208T094500
DTEND;TZID=Australia/Sydney:20241208T110000
DTSTAMP:20260426T001145
CREATED:20240925T073349Z
LAST-MODIFIED:20240925T073351Z
UID:3045-1733651100-1733655600@kiamaslsc.com.au
SUMMARY:Club pointscore
DESCRIPTION:U7 Set Up/Pack Up
URL:https://kiamaslsc.com.au/event/club-pointscore/
LOCATION:NSW
CATEGORIES:Competition,Nippers
END:VEVENT
BEGIN:VEVENT
DTSTART;TZID=Australia/Sydney:20241214T150000
DTEND;TZID=Australia/Sydney:20241214T170000
DTSTAMP:20260426T001145
CREATED:20240925T073544Z
LAST-MODIFIED:20240925T073820Z
UID:3047-1734188400-1734195600@kiamaslsc.com.au
SUMMARY:Twilight nippers
DESCRIPTION:Santa\, followed by club Christmas Party\, BBQ\, SRC presentation. \n\n\n\nU6 Set Up/Pack Up
URL:https://kiamaslsc.com.au/event/twilight-nippers/
LOCATION:Kiama Surf Club\, 74 Manning Street\, Kiama\, NSW\, 2533\, Australia
CATEGORIES:Nippers
END:VEVENT
BEGIN:VEVENT
DTSTART;TZID=Australia/Sydney:20250202T094500
DTEND;TZID=Australia/Sydney:20250202T110000
DTSTAMP:20260426T001145
CREATED:20240925T073744Z
LAST-MODIFIED:20240925T073746Z
UID:3049-1738489500-1738494000@kiamaslsc.com.au
SUMMARY:Club pointscore
DESCRIPTION:
URL:https://kiamaslsc.com.au/event/club-pointscore-2/
LOCATION:Kiama Surf Club\, 74 Manning Street\, Kiama\, NSW\, 2533\, Australia
CATEGORIES:Competition,Nippers
END:VEVENT
BEGIN:VEVENT
DTSTART;TZID=Australia/Sydney:20250302T094500
DTEND;TZID=Australia/Sydney:20250302T110000
DTSTAMP:20260426T001145
CREATED:20240925T074040Z
LAST-MODIFIED:20240925T074042Z
UID:3051-1740908700-1740913200@kiamaslsc.com.au
SUMMARY:Club Pointscore
DESCRIPTION:
URL:https://kiamaslsc.com.au/event/club-pointscore-3/
LOCATION:Kiama Surf Club\, 74 Manning Street\, Kiama\, NSW\, 2533\, Australia
CATEGORIES:Competition,Nippers
END:VEVENT
BEGIN:VEVENT
DTSTART;TZID=Australia/Sydney:20250315T150000
DTEND;TZID=Australia/Sydney:20250315T180000
DTSTAMP:20260426T001145
CREATED:20240925T074312Z
LAST-MODIFIED:20240925T074314Z
UID:3053-1742050800-1742061600@kiamaslsc.com.au
SUMMARY:End of season
DESCRIPTION:Point score\, pizza\, AGM\, Awards
URL:https://kiamaslsc.com.au/event/end-of-season/
LOCATION:Kiama Surf Club\, 74 Manning Street\, Kiama\, NSW\, 2533\, Australia
CATEGORIES:Competition,Nippers,Social
END:VEVENT
BEGIN:VEVENT
DTSTART;TZID=Australia/Sydney:20250323T080000
DTEND;TZID=Australia/Sydney:20250323T170000
DTSTAMP:20260426T001145
CREATED:20240925T074603Z
LAST-MODIFIED:20240925T074605Z
UID:3055-1742716800-1742749200@kiamaslsc.com.au
SUMMARY:Rookie camp
DESCRIPTION:
URL:https://kiamaslsc.com.au/event/rookie-camp/
LOCATION:Sussex inlet SLSC\, 194 Pacificana Dr\, Sussex Inlet\, NSW\, 2540\, Australia
CATEGORIES:Nippers,Social
END:VEVENT
BEGIN:VEVENT
DTSTART;TZID=Australia/Sydney:20250426T190000
DTEND;TZID=Australia/Sydney:20250426T230000
DTSTAMP:20260426T001145
CREATED:20250312T013409Z
LAST-MODIFIED:20250312T013410Z
UID:3269-1745694000-1745708400@kiamaslsc.com.au
SUMMARY:Jack Stax & The Thrillseekers Live
DESCRIPTION:A Night of Classic Pub Rock – Saturday\, 26th April at Kiama SLSC\n\n\n\nYou asked\, and we heard you – Jack Stax & The Thrillseekers- are back for another unforgettable night at Kiama Surf Club on Saturday\, 26th April 2025. \n\n\n\nWho are Jack Stax & The Thrillseekers? \n\n\n\nA powerhouse band bringing high-energy classic pub rock\, Jack Stax comprises talented musicians\, including locals from Kiama\, Tasmania and Sydney. They deliver a great live performance\, packed with crowd-favourite tunes that will have you singing along all night—so get your dancing shoes on! \n\n\n\nEvent Details\n\n\n\n📅 Date: Saturday\, 26th April 2025⏰ Time: 7 PM – 11 PM (Doors open at 6 PM)📍 Location: Kiama SLSC Deck🎟️ Tickets: $20 per person – BUY NOW🍔 Food Trucks On-Site \n\n\n\nEnjoy a great night of live music with stunning ocean views from the deck. All proceeds support Kiama Surf Club’s community programs and beach safety initiatives. \n\n\n\nTickets are on sale now. Secure yours today! \n\n\n\nFor event updates\, follow:@KiamaSLSC | @JackStaxThrillseekers | @AliveNKickinKiama
URL:https://kiamaslsc.com.au/event/jack-stax-the-thrillseekers-live/
LOCATION:Kiama Surf Club\, 74 Manning Street\, Kiama\, NSW\, 2533\, Australia
END:VEVENT
BEGIN:VEVENT
DTSTART;TZID=Australia/Sydney:20250926T170000
DTEND;TZID=Australia/Sydney:20250926T230000
DTSTAMP:20260426T001145
CREATED:20250904T220016Z
LAST-MODIFIED:20250904T220018Z
UID:3459-1758906000-1758927600@kiamaslsc.com.au
SUMMARY:Oktoberfest 2025
DESCRIPTION:Oktoberfest @ Kiama SLSC! Get ready for an epic night of German beers\, bratwurst\, pork knuckle\, pretzels\, and live tunes from the Oompah Loompah Band (yes\, really) — all by the beach at the Kiama Surf Club! \n\n\n\n Friday 26 September 2025 5PM – 11PM Prizes for best dressed Strong arm contests All the German vibes you could want! \n\n\n\nDon’t miss out! Ticket sales close on 11/Sep.
URL:https://kiamaslsc.com.au/event/oktoberfest-2025/
LOCATION:Kiama Surf Club\, 74 Manning Street\, Kiama\, NSW\, 2533\, Australia
CATEGORIES:Social
ATTACH;FMTTYPE=image/jpeg:https://kiamaslsc.com.au/wp-content/uploads/2025/09/2025-oktfest.jpeg
END:VEVENT
BEGIN:VEVENT
DTSTART;TZID=Australia/Sydney:20251115T083000
DTEND;TZID=Australia/Sydney:20251115T170000
DTSTAMP:20260426T001145
CREATED:20250522T024701Z
LAST-MODIFIED:20250522T025109Z
UID:3307-1763195400-1763226000@kiamaslsc.com.au
SUMMARY:Kiama Ultra Challenge
DESCRIPTION:A charity fundraiser based around ultra endurance Indoor Rowing and Cycling will be held on the 15th November\, 2025 at Kiama Surf Club. Event details. \n\n\n\nNardia Guillaumier (2x World Indoor Rowing Gold Medallist and local photographer) will be rowing 100kms on a Concept 2 Row Erg. \n\n\n\nAlan Swan (Kiama SLSC Surf boat crew member and owner of Swan Athletic Jamberoo) will be riding 200kms on a Concept 2 Bike Erg. \n\n\n\nThere is no guarantee they will make it\, but both are determined to push themselves to their physical and mental limits in support of the chosen charities. \n\n\n\nShow your support\n\n\n\nSponsor the event\, donate to one of the teams or donate to the event. Proceeds will be evenly split across four participating charities. \n\n\n\nAttend the event\n\n\n\nThe club will be open to the public\, and you’re welcome to cheer-on the athletes in person. We’ll also have 2 spare row ergs in case you want to give it a crack! \n\n\n\nParticipating charities will have an information table at the event\, so they can offer support to community members in need and also sell merchandise with funds going directly to their charity. \n\n\n\nDepending on weather\, the sundeck bar will be open\, and you can enjoy a nice view of Surf Beach with a drink in your hand while the athletes sweat it out.
URL:https://kiamaslsc.com.au/event/kiama-ultra-challenge/
LOCATION:Kiama Surf Club\, 74 Manning Street\, Kiama\, NSW\, 2533\, Australia
CATEGORIES:Active,Social
ATTACH;FMTTYPE=image/png:https://kiamaslsc.com.au/wp-content/uploads/2025/05/ultra-1000.png
END:VEVENT
END:VCALENDAR