BEGIN:VCALENDAR
VERSION:2.0
PRODID:-//Kiama Surf Lifesaving Club - ECPv6.15.20//NONSGML v1.0//EN
CALSCALE:GREGORIAN
METHOD:PUBLISH
X-WR-CALNAME:Kiama Surf Lifesaving Club
X-ORIGINAL-URL:https://kiamaslsc.com.au
X-WR-CALDESC:Events for Kiama Surf Lifesaving Club
REFRESH-INTERVAL;VALUE=DURATION:PT1H
X-Robots-Tag:noindex
X-PUBLISHED-TTL:PT1H
BEGIN:VTIMEZONE
TZID:Australia/Sydney
BEGIN:STANDARD
TZOFFSETFROM:+1100
TZOFFSETTO:+1000
TZNAME:AEST
DTSTART:20210403T160000
END:STANDARD
BEGIN:DAYLIGHT
TZOFFSETFROM:+1000
TZOFFSETTO:+1100
TZNAME:AEDT
DTSTART:20211002T160000
END:DAYLIGHT
BEGIN:STANDARD
TZOFFSETFROM:+1100
TZOFFSETTO:+1000
TZNAME:AEST
DTSTART:20220402T160000
END:STANDARD
BEGIN:DAYLIGHT
TZOFFSETFROM:+1000
TZOFFSETTO:+1100
TZNAME:AEDT
DTSTART:20221001T160000
END:DAYLIGHT
BEGIN:STANDARD
TZOFFSETFROM:+1100
TZOFFSETTO:+1000
TZNAME:AEST
DTSTART:20230401T160000
END:STANDARD
BEGIN:DAYLIGHT
TZOFFSETFROM:+1000
TZOFFSETTO:+1100
TZNAME:AEDT
DTSTART:20230930T160000
END:DAYLIGHT
END:VTIMEZONE
BEGIN:VEVENT
DTSTART;TZID=Australia/Sydney:20221210T000000
DTEND;TZID=Australia/Sydney:20221210T235959
DTSTAMP:20260422T060517
CREATED:20220819T221055Z
LAST-MODIFIED:20220819T221055Z
UID:2443-1670630400-1670716799@kiamaslsc.com.au
SUMMARY:Regional Junior Carnival
DESCRIPTION:U9 to U13
URL:https://kiamaslsc.com.au/event/regional-junior-carnival/
LOCATION:Bulli Surf Life Saving Club\, Trinity Row\, Bulli\, NSW\, 2516\, Australia
CATEGORIES:Competition
END:VEVENT
END:VCALENDAR