BEGIN:VCALENDAR
VERSION:2.0
PRODID:-//Kiama Surf Lifesaving Club - ECPv6.15.20//NONSGML v1.0//EN
CALSCALE:GREGORIAN
METHOD:PUBLISH
X-WR-CALNAME:Kiama Surf Lifesaving Club
X-ORIGINAL-URL:https://kiamaslsc.com.au
X-WR-CALDESC:Events for Kiama Surf Lifesaving Club
REFRESH-INTERVAL;VALUE=DURATION:PT1H
X-Robots-Tag:noindex
X-PUBLISHED-TTL:PT1H
BEGIN:VTIMEZONE
TZID:Australia/Sydney
BEGIN:STANDARD
TZOFFSETFROM:+1100
TZOFFSETTO:+1000
TZNAME:AEST
DTSTART:20220402T160000
END:STANDARD
BEGIN:DAYLIGHT
TZOFFSETFROM:+1000
TZOFFSETTO:+1100
TZNAME:AEDT
DTSTART:20221001T160000
END:DAYLIGHT
BEGIN:STANDARD
TZOFFSETFROM:+1100
TZOFFSETTO:+1000
TZNAME:AEST
DTSTART:20230401T160000
END:STANDARD
BEGIN:DAYLIGHT
TZOFFSETFROM:+1000
TZOFFSETTO:+1100
TZNAME:AEDT
DTSTART:20230930T160000
END:DAYLIGHT
BEGIN:STANDARD
TZOFFSETFROM:+1100
TZOFFSETTO:+1000
TZNAME:AEST
DTSTART:20240406T160000
END:STANDARD
BEGIN:DAYLIGHT
TZOFFSETFROM:+1000
TZOFFSETTO:+1100
TZNAME:AEDT
DTSTART:20241005T160000
END:DAYLIGHT
END:VTIMEZONE
BEGIN:VEVENT
DTSTART;TZID=Australia/Sydney:20230212T094500
DTEND;TZID=Australia/Sydney:20230212T094500
DTSTAMP:20260422T042519
CREATED:20220818T081234Z
LAST-MODIFIED:20220818T081234Z
UID:2335-1676195100-1676195100@kiamaslsc.com.au
SUMMARY:Nippers - Club pointscore
DESCRIPTION:U11 Set Up/Pack Up
URL:https://kiamaslsc.com.au/event/nippers-club-pointscore-2/
LOCATION:Kiama Surf Club\, 74 Manning Street\, Kiama\, NSW\, 2533\, Australia
CATEGORIES:Nippers
END:VEVENT
END:VCALENDAR